Workbook

Sheet 申込フォーマット①
B2: 四国そろばん88カップ実行委員会 行き
B4: 四国そろばん88カップ2027参加申込（メール送信用）
B5: tsuboi@tosaka-soroban.com
B7: 教室名 | G7: 代表者名 | M7: 整理費集計欄（自動集計されます）
B8: 郵便番号 | D8: 住所 | M8: 小2以下 | N8: =COUNTIF(C13:C62,"小2以下") -> 0 | O8: × | P8: =Sheet2!F5 -> 3000 | Q8: ＝ | R8: =N8*P8 -> 0
B9: e-mail | G9: 電話番号 | M9: 小3･4 | N9: =COUNTIF(C13:C62,"小3･4") -> 0 | O9: × | P9: =Sheet2!F5 -> 3000 | Q9: ＝ | R9: =N9*P9 -> 0
B10: 教室名 | F10: コメント（20文字程度） | M10: 小5･6 | N10: =COUNTIF(C13:C62,"小5･6") -> 0 | O10: × | P10: =Sheet2!F5 -> 3000 | Q10: ＝ | R10: =N10*P10 -> 0
M11: 中学以上 | N11: =COUNTIF(C13:C62,"中学以上") -> 0 | O11: × | P11: =Sheet2!F5 -> 3000 | Q11: ＝ | R11: =N11*P11 -> 0
B12: No. | C12: 参加部門 | D12: 学種 | E12: 学年 | F12: 名前 | G12: ふりがな | H12: 過去最高点 | I12: 出場歴 | J12: 特記事項 | P12: 整理費計 | R12: =SUM(R8:R11) -> 0
G13: =IF(F13="","",IFERROR(INDEX(過去最高得点!$B$3:$B$266,MATCH(F13,過去最高得点!$A$3:$A$266,0)),"")) | H13: =IF(F13="","",IFERROR(INDEX(過去最高得点!$E$3:$E$266,MATCH(F13,過去最高得点!$A$3:$A$266,0)),""))
B14: 2 | G14: =IF(F14="","",IFERROR(INDEX(過去最高得点!$B$3:$B$266,MATCH(F14,過去最高得点!$A$3:$A$266,0)),"")) | H14: =IF(F14="","",IFERROR(INDEX(過去最高得点!$E$3:$E$266,MATCH(F14,過去最高得点!$A$3:$A$266,0)),"")) | M14: 団体登録料 | R14: =Sheet2!F7 -> 5000
B15: 3 | G15: =IF(F15="","",IFERROR(INDEX(過去最高得点!$B$3:$B$266,MATCH(F15,過去最高得点!$A$3:$A$266,0)),"")) | H15: =IF(F15="","",IFERROR(INDEX(過去最高得点!$E$3:$E$266,MATCH(F15,過去最高得点!$A$3:$A$266,0)),""))
B16: 4 | G16: =IF(F16="","",IFERROR(INDEX(過去最高得点!$B$3:$B$266,MATCH(F16,過去最高得点!$A$3:$A$266,0)),"")) | H16: =IF(F16="","",IFERROR(INDEX(過去最高得点!$E$3:$E$266,MATCH(F16,過去最高得点!$A$3:$A$266,0)),"")) | Q16: 送金額 計
B17: 5 | G17: =IF(F17="","",IFERROR(INDEX(過去最高得点!$B$3:$B$266,MATCH(F17,過去最高得点!$A$3:$A$266,0)),"")) | H17: =IF(F17="","",IFERROR(INDEX(過去最高得点!$E$3:$E$266,MATCH(F17,過去最高得点!$A$3:$A$266,0)),"")) | Q17: =R12+R14 -> 5000
B18: 6 | G18: =IF(F18="","",IFERROR(INDEX(過去最高得点!$B$3:$B$266,MATCH(F18,過去最高得点!$A$3:$A$266,0)),"")) | H18: =IF(F18="","",IFERROR(INDEX(過去最高得点!$E$3:$E$266,MATCH(F18,過去最高得点!$A$3:$A$266,0)),""))
B19: 7 | G19: =IF(F19="","",IFERROR(INDEX(過去最高得点!$B$3:$B$266,MATCH(F19,過去最高得点!$A$3:$A$266,0)),"")) | H19: =IF(F19="","",IFERROR(INDEX(過去最高得点!$E$3:$E$266,MATCH(F19,過去最高得点!$A$3:$A$266,0)),"")) | M19: 【参加料送金先】
B20: 8 | G20: =IF(F20="","",IFERROR(INDEX(過去最高得点!$B$3:$B$266,MATCH(F20,過去最高得点!$A$3:$A$266,0)),"")) | H20: =IF(F20="","",IFERROR(INDEX(過去最高得点!$E$3:$E$266,MATCH(F20,過去最高得点!$A$3:$A$266,0)),"")) | M20: 観音寺信用金庫 本店営業部 普通 0874649
B21: 9 | G21: =IF(F21="","",IFERROR(INDEX(過去最高得点!$B$3:$B$266,MATCH(F21,過去最高得点!$A$3:$A$266,0)),"")) | H21: =IF(F21="","",IFERROR(INDEX(過去最高得点!$E$3:$E$266,MATCH(F21,過去最高得点!$A$3:$A$266,0)),"")) | M21: 四国そろばん88カップ 壷井英貴
B22: 10 | G22: =IF(F22="","",IFERROR(INDEX(過去最高得点!$B$3:$B$266,MATCH(F22,過去最高得点!$A$3:$A$266,0)),"")) | H22: =IF(F22="","",IFERROR(INDEX(過去最高得点!$E$3:$E$266,MATCH(F22,過去最高得点!$A$3:$A$266,0)),"")) | M22: ※参加料は主催者からの連絡があるまで送金しないでください
B23: 11 | G23: =IF(F23="","",IFERROR(INDEX(過去最高得点!$B$3:$B$266,MATCH(F23,過去最高得点!$A$3:$A$266,0)),"")) | H23: =IF(F23="","",IFERROR(INDEX(過去最高得点!$E$3:$E$266,MATCH(F23,過去最高得点!$A$3:$A$266,0)),"")) | M23: ※種目別競技の問題購入できます。お問い合わせください。
B24: 12 | G24: =IF(F24="","",IFERROR(INDEX(過去最高得点!$B$3:$B$266,MATCH(F24,過去最高得点!$A$3:$A$266,0)),"")) | H24: =IF(F24="","",IFERROR(INDEX(過去最高得点!$E$3:$E$266,MATCH(F24,過去最高得点!$A$3:$A$266,0)),""))
B25: 13 | G25: =IF(F25="","",IFERROR(INDEX(過去最高得点!$B$3:$B$266,MATCH(F25,過去最高得点!$A$3:$A$266,0)),"")) | H25: =IF(F25="","",IFERROR(INDEX(過去最高得点!$E$3:$E$266,MATCH(F25,過去最高得点!$A$3:$A$266,0)),""))
B26: 14 | G26: =IF(F26="","",IFERROR(INDEX(過去最高得点!$B$3:$B$266,MATCH(F26,過去最高得点!$A$3:$A$266,0)),"")) | H26: =IF(F26="","",IFERROR(INDEX(過去最高得点!$E$3:$E$266,MATCH(F26,過去最高得点!$A$3:$A$266,0)),""))
B27: 15 | G27: =IF(F27="","",IFERROR(INDEX(過去最高得点!$B$3:$B$266,MATCH(F27,過去最高得点!$A$3:$A$266,0)),"")) | H27: =IF(F27="","",IFERROR(INDEX(過去最高得点!$E$3:$E$266,MATCH(F27,過去最高得点!$A$3:$A$266,0)),""))
B28: 16 | G28: =IF(F28="","",IFERROR(INDEX(過去最高得点!$B$3:$B$266,MATCH(F28,過去最高得点!$A$3:$A$266,0)),"")) | H28: =IF(F28="","",IFERROR(INDEX(過去最高得点!$E$3:$E$266,MATCH(F28,過去最高得点!$A$3:$A$266,0)),""))
B29: 17 | G29: =IF(F29="","",IFERROR(INDEX(過去最高得点!$B$3:$B$266,MATCH(F29,過去最高得点!$A$3:$A$266,0)),"")) | H29: =IF(F29="","",IFERROR(INDEX(過去最高得点!$E$3:$E$266,MATCH(F29,過去最高得点!$A$3:$A$266,0)),""))
B30: 18 | G30: =IF(F30="","",IFERROR(INDEX(過去最高得点!$B$3:$B$266,MATCH(F30,過去最高得点!$A$3:$A$266,0)),"")) | H30: =IF(F30="","",IFERROR(INDEX(過去最高得点!$E$3:$E$266,MATCH(F30,過去最高得点!$A$3:$A$266,0)),""))
B31: 19 | G31: =IF(F31="","",IFERROR(INDEX(過去最高得点!$B$3:$B$266,MATCH(F31,過去最高得点!$A$3:$A$266,0)),"")) | H31: =IF(F31="","",IFERROR(INDEX(過去最高得点!$E$3:$E$266,MATCH(F31,過去最高得点!$A$3:$A$266,0)),""))
B32: 20 | G32: =IF(F32="","",IFERROR(INDEX(過去最高得点!$B$3:$B$266,MATCH(F32,過去最高得点!$A$3:$A$266,0)),"")) | H32: =IF(F32="","",IFERROR(INDEX(過去最高得点!$E$3:$E$266,MATCH(F32,過去最高得点!$A$3:$A$266,0)),""))
B33: 21 | G33: =IF(F33="","",IFERROR(INDEX(過去最高得点!$B$3:$B$266,MATCH(F33,過去最高得点!$A$3:$A$266,0)),"")) | H33: =IF(F33="","",IFERROR(INDEX(過去最高得点!$E$3:$E$266,MATCH(F33,過去最高得点!$A$3:$A$266,0)),""))
B34: 22 | G34: =IF(F34="","",IFERROR(INDEX(過去最高得点!$B$3:$B$266,MATCH(F34,過去最高得点!$A$3:$A$266,0)),"")) | H34: =IF(F34="","",IFERROR(INDEX(過去最高得点!$E$3:$E$266,MATCH(F34,過去最高得点!$A$3:$A$266,0)),""))
B35: 23 | G35: =IF(F35="","",IFERROR(INDEX(過去最高得点!$B$3:$B$266,MATCH(F35,過去最高得点!$A$3:$A$266,0)),"")) | H35: =IF(F35="","",IFERROR(INDEX(過去最高得点!$E$3:$E$266,MATCH(F35,過去最高得点!$A$3:$A$266,0)),""))
... B62: 50 | G62: =IF(F62="","",IFERROR(INDEX(過去最高得点!$B$3:$B$266,MATCH(F62,過去最高得点!$A$3:$A$266,0)),"")) | H62: =IF(F62="","",IFERROR(INDEX(過去最高得点!$E$3:$E$266,MATCH(F62,過去最高得点!$A$3:$A$266,0)),""))

Sheet Sheet2
B5: 小2以下 | C5: 1：幼児 | D5: 年少 | E5: 初 | F5: 3000 | H5: アールズ
B6: 小3･4 | C6: 2：小学 | D6: 年中 | H6: 北山
B7: 小5･6 | C7: 3：中学 | D7: 年長 | F7: 5000 | H7: 木村
B8: 中学以上 | C8: 4：高校 | D8: 1 | H8: 黒川
C9: 5：大学 | D9: 2 | H9: 瀬戸内
C10: 6：一般 | D10: 3 | H10: 高木
D11: 4 | H11: 西村
D12: 5 | H12: 橋本
D13: 6 | H13: PACHI
H14: プラス
H15: 堀田
H16: 松岡
H17: 松本
H18: みとよ
H19: みらい
H20: 山下高知
H21: 山下徳島
H22: 由良
H23: 横手
H24: わかば

Sheet 過去最高得点
A1: 2024～2026年 選手別 最高得点一覧
A2: 氏名 | B2: ふりがな | C2: 県名 | D2: 教室名 | E2: 最高得点 | F2: 最高得点年度
A3: 相原凰一郎 | B3: あいばら おういちろう | C3: 愛媛 | D3: PACHI | E3: 880 | F3: 2026
A4: 相原 怜奈 | B4: あいばら れいな | C4: 愛媛 | D4: PACHI | E4: 715 | F4: 2026
A5: 青野 奈緒 | B5: あおの なお | C5: 愛媛 | D5: PACHI | E5: 760 | F5: 2024
A6: 青野 奈美 | B6: あおの なみ | C6: 愛媛 | D6: PACHI | E6: 745 | F6: 2024
A7: 浅田一菜子 | B7: あさだ ひなこ | C7: 愛媛 | D7: PACHI | E7: 495 | F7: 2026
A8: 浅田茉友子 | B8: あさだ まゆこ | C8: 愛媛 | D8: PACHI | E8: 255 | F8: 2026
A9: 麻生 悠人 | B9: あそう はると | C9: 愛媛 | D9: 松本 | E9: 680 | F9: 2026
A10: 麻生 莉子 | B10: あそう りこ | C10: 愛媛 | D10: 松本 | E10: 660 | F10: 2026
A11: 阿部 咲樹 | B11: あべ さつき | C11: 愛媛 | D11: 松本 | E11: 450 | F11: 2026
A12: 阿部 千咲 | B12: あべ ちさき | C12: 愛媛 | D12: 松本 | E12: 620 | F12: 2026
A13: 有藤 凛 | B13: ありとう りん | C13: 高知 | D13: 北山 | E13: 425 | F13: 2026
A14: 井内 碧人 | B14: いうち あおと | C14: 愛媛 | D14: PACHI | E14: 460 | F14: 2026
... A266: 渡部 結衣 | B266: わたなべ ゆい | C266: 愛媛 | D266: PACHI | E266: 280 | F266: 2026
